BEGIN:VCALENDAR
VERSION:2.0
PRODID:-//PoolParty Semantic Suite - ECPv6.5.1.5//NONSGML v1.0//EN
CALSCALE:GREGORIAN
METHOD:PUBLISH
X-ORIGINAL-URL:https://www.poolparty.biz
X-WR-CALDESC:Events for PoolParty Semantic Suite
REFRESH-INTERVAL;VALUE=DURATION:PT1H
X-Robots-Tag:noindex
X-PUBLISHED-TTL:PT1H
BEGIN:VTIMEZONE
TZID:Europe/Vienna
BEGIN:DAYLIGHT
TZOFFSETFROM:+0100
TZOFFSETTO:+0200
TZNAME:CEST
DTSTART:20210328T010000
END:DAYLIGHT
BEGIN:STANDARD
TZOFFSETFROM:+0200
TZOFFSETTO:+0100
TZNAME:CET
DTSTART:20211031T010000
END:STANDARD
END:VTIMEZONE
BEGIN:VEVENT
DTSTART;TZID=Europe/Vienna:20210503T150000
DTEND;TZID=Europe/Vienna:20210503T183000
DTSTAMP:20260424T105639
CREATED:20210409T095648Z
LAST-MODIFIED:20230614T140912Z
UID:142069-1620054000-1620066600@www.poolparty.biz
SUMMARY:The Knowledge Graph Conference 2021
DESCRIPTION:Taxonomy Tutorial with Semantic Web Company\nFoundation for a Knowledge Graph: Taxonomy Design Best Practices\nHow does a Data & Knowledge Engineer who has been working with taxonomies for over 25 years create and design a taxonomy? Learn how to set up and maintain a taxonomy with Semantic Web Company’s Heather Hedden at the Knowledge Graph Conference!  \nWhile taxonomies are central to a powerful knowledge organization system\, one that is made without proper training or understanding can yield poor results. Don’t waste the taxonomy’s potential by guessing your way through – hear directly from a taxonomy expert and benefit from the following takeaways: \n\nUnderstand the diversity of knowledge organization systems and their specific business cases\nGather helpful resources for developing a taxonomy\nDevelop concepts and labels that best serve users\nConstruct taxonomy relationships according to best practices and standards\nLeverage the relationship between a well-developed taxonomy and ontology\n\nThis tutorial is meant for all users\, so you don’t have to be experienced with taxonomy construction to keep up! Along with extensive presentation on the taxonomy and its uses\, this 4-hour tutorial will consist of interactive audience activities. Join Heather to learn the fundamentals of a successful taxonomy.  \nClick the button below for more information about the conference and how to register.  \n			\n				\n				\n				\n				\n				\n				\n					Heather Hedden\n					Data & Knowledge Engineer \n					Heather Hedden is a Data and Knowledge Engineer with Semantic Web Company Inc.\, vendor of PoolParty Semantic Suite software for developing taxonomies\, ontologies\, knowledge graphs\, and semantic search applications. \nHeather has 25 years of experience in developing and managing taxonomies and other knowledge organization systems for various organizations and applications\, both as an employee and as a consultant. She provides training in taxonomy creation and is author of the book The Accidental Taxonomist. \n					XLinkedIn\n				\n			\n				Visit Event page
URL:https://www.poolparty.biz/events/the-knowledge-graph-conference-taxonomy-tutorial
CATEGORIES:Event
ATTACH;FMTTYPE=image/png:https://www.poolparty.biz/wp-content/uploads/2021/04/KGC2021_thumbnail.png
END:VEVENT
BEGIN:VEVENT
DTSTART;TZID=Europe/Vienna:20210519T170000
DTEND;TZID=Europe/Vienna:20210519T180000
DTSTAMP:20260424T105639
CREATED:20210420T074923Z
LAST-MODIFIED:20250327T141451Z
UID:142381-1621443600-1621447200@www.poolparty.biz
SUMMARY:Webinar: The Key To Successful Digital Transformation
DESCRIPTION:On-Demand Webinar \n			\n				\n				\n				\n				\n				The Key to a Successful Digital Transformation\n			\n				\n				\n				\n				\n				Graph-based Enterprise 360  \n			\n				\n				\n				\n				\n				\n			\n			\n				\n				\n				\n				\n				\n			\n				\n				\n				\n				\n			\n				\n				\n				\n				\n				\n				\n				\n				\n				\n				\n				\n					\n					\n						Speakers\n						Andreas Blumauer\, CEO Semantic Web CompanyZach Wahl\, CEO Enterprise Knowledge Inc. Florian Bauer\, CSO Semantic Web Company \n					\n				\n			\n			\n				\n				\n				\n				\n				\n			\n				\n				\n				\n				\n				\n			\n				\n				\n				\n				\n			\n				\n				\n			\n				\n				\n				\n				\n				\n				\n				\n				\n				\n				\n				\n				\n				\n				\n				\n				\n				\n				The Key to a Successful Digital Transformation:\nGraph-based Enterprise 360\n			\n				\n				\n				\n				\n				The key to successful digital transformation of any company is to be able to dynamically generate comprehensive 360-degree views of core processes and business objects. Building a holistic digital twin of your business will not only help you to create better customer experiences and efficient digital workplaces\, but will also aid in bringing knowledge discovery to the next level through personalized information and gaining better insights for more accurate decision making. \nWatch our webinar and learn how Enterprise 360 helps to better address individual information needs and contexts\, providing relevant information about products\, markets\, customers\, as well as related knowledge and learning content. \nThe methods and technologies underlying Enterprise 360 initiatives are based on knowledge graphs. With the help of graphs\, information from all data silos can be linked together\, and this can be done in an efficient and agile manner without having to drastically change existing systems and workflows. Knowledge graphs span an umbrella over all data and reduce the semantic gaps between all the languages and data models that HR (Employee 360)\, product managers (Product 360)\, sales teams (Customer 360) and marketing (Market 360) develop and use over time. \nRegister now and learn how you can use knowledge graphs to create 360-views of any process or business object. \nThis 1-hour webinar will include a presentation of Enterprise 360 by Andreas Blumauer\, CEO Semantic Web Company\, followed by a panel discussion with Zach Wahl\, CEO Enterprise Knowledge\, and Florian Bauer\, CSO Semantic Web Company. \n			\n				\n				\n				\n				\n				\n				\n			\n			\n				\n				\n				\n				\n			\n				\n				\n				\n				\n				\n				\n				\n				\n				\n				\n				\n				\n			\n			\n				\n				\n				\n				\n				\n				\n				\n				\n				\n				\n			\n			\n				\n				\n				\n				\n			\n				\n				\n				\n				\n				\n				\n				\n				\n				\n				\n				\n				\n					Andreas Blumauer\n					CEO at Semantic Web Company \n					Andreas is CEO and co-founder of the Semantic Web Company. He is the ‘product architect’ of PoolParty Semantic Suite and responsible for all sales and marketing activities of the company. He holds a degree in computer science and is a distinguished Semantic Web expert. \n					LinkedIn\n				\n			\n			\n				\n				\n				\n				\n				\n				\n				\n				\n				\n				\n				\n					Florian Bauer\n					CSO at Semantic Web Company \n					Florian Bauer is currently Director of Solutions & Strategic Alliances at the Semantic Web Company (SWC). Before joining SWC\, he was Managing Director of the Impact Hub Vienna (a co-working space dedicated to support social entrepreneurs) and COO & Deputy Director General of an international non-governmental organisation (REEEP) for more than 10 years. \n					LinkedIn\n				\n			\n			\n				\n				\n				\n				\n				\n				\n				\n				\n				\n				\n				\n					Zach Wahl\n					CEO at Enterprise Knowledge \n					Expert in knowledge and information management strategy\, content strategy\, and taxonomy design. Zach is passionate about forming and supporting high-functioning teams and facilitating results-focused outcomes with his clients. \n					LinkedIn
URL:https://www.poolparty.biz/events/the-key-to-successful-digital-transformation
LOCATION:RECORDING AVAILABLE
CATEGORIES:On-demand Webinars
ATTACH;FMTTYPE=image/png:https://www.poolparty.biz/wp-content/uploads/2021/04/The-Key-To-Successful-Digital-Transformation-Enterprise-360-based-on-Graph-1.png
END:VEVENT
BEGIN:VEVENT
DTSTART;TZID=Europe/Vienna:20210525T170000
DTEND;TZID=Europe/Vienna:20210525T180000
DTSTAMP:20260424T105640
CREATED:20210506T085457Z
LAST-MODIFIED:20250327T142240Z
UID:142756-1621962000-1621965600@www.poolparty.biz
SUMMARY:Webinar: Boost your Customer Experience in AEM with Auto Tagging
DESCRIPTION:ON-DEMAND WEBINAR \n			\n				\n				\n				\n				\n				Boost your Customer Experience in AEM with Auto Tagging\n\n			\n				\n				\n				\n				\n				\n			\n			\n				\n				\n				\n				\n				\n			\n				\n				\n				\n				\n			\n				\n				\n				\n				\n				\n				\n				\n				\n				\n				\n				\n					\n					\n						Speakers\n						Heather Hedden\, Data and Knowledge Engineer\, Semantic Web Company \nMaura Moran\, Senior Content Consultant\, Mekon Ltd \n					\n				\n			\n			\n				\n				\n				\n				\n				\n			\n				\n				\n				\n				\n				\n			\n				\n				\n				\n				\n			\n				\n				\n			\n				\n				\n				\n				\n				\n				\n				\n				\n				\n				\n				\n				\n				\n				\n				\n				\n				\n				Boost your Customer Experience in AEM with Auto Tagging\n			\n				\n				\n				\n				\n				Tagging your content is essential for supporting the sophisticated personalization\, search and navigation features that benefit your users. But manually tagging a large amount of content can be time-consuming and inconsistent\, leading to poor results. Join our free webinar to find out how you can automatically tag content in Adobe Experience Manager easily and cost-effectively\, improving the search and personalization feature of your websites. \nIn this on-demand webinar\, you will learn how Mekon’s Semantic Booster integrates AEM with the PoolParty Semantic Suite\, allowing you to take advantage of world-class text-mining capabilities to auto tag your sites. PoolParty is unique because it combines knowledge graphs\, machine learning\, natural language processing\, and graph algorithms to better analyze text by not only processing words but understanding the underlying concepts and their context. As a result\, your information professionals are able to create high-quality metadata that can deliver personalized\, meaningful content to your users. \nHear from Maura Moran of Mekon and Heather Hedden of Semantic Web Company on the following topics: \n\nIntegrate PoolParty with Adobe Experience Manager (AEM)\, using the Semantic Booster for AEM [DEMO]\nAuto tag AEM Sites against concepts\, using mutli-lingual terms and synonyms\nManage the concepts in an enterprise system\, using a specialist environment that can connect to other systems via API\nImprove customer experiences through improved personalization and findability\n\n			\n				\n				\n				\n				\n				\n				\n			\n			\n				\n				\n				\n				\n			\n				\n				\n				\n				\n				\n				\n				\n				\n				\n				\n				\n				\n					Maura Moran\n					Senior Content Consultant at Mekon Ltd. \n					Maura has over 20 years’ experience helping organizations drive value through improved information architecture\, taxonomy and content management systems and tools. She has a particularly strong background in commercial publishing\, having worked with many of the world’s premier publishing firms including Pearson\, Elsevier\, and Oxford University Press. \nMaura understands that changing an organization’s working practices can be a messy business\, so she balances finding the right technical solution with a focus on practical implementation\, including a solid approach to change management and content governance. \n					LinkedIn\n				\n			\n			\n				\n				\n				\n				\n				\n				\n				\n				\n				\n				\n				\n					Heather Hedden\n					Data and Knowledge Engineer at Semantic Web Company \n					Heather Hedden is a Data and Knowledge Engineer with Semantic Web Company Inc.\, vendor of PoolParty Semantic Suite software for developing taxonomies\, ontologies\, knowledge graphs\, and semantic search applications. \nHeather has 25 years of experience in developing and managing taxonomies and other knowledge organization systems for various organizations and applications\, both as an employee and as a consultant. She provides training in taxonomy creation and is author of the book The Accidental Taxonomist. \n					LinkedIn
URL:https://www.poolparty.biz/events/auto-tagging-in-adobe-experience-manager
LOCATION:RECORDING AVAILABLE
CATEGORIES:On-demand Webinars
ATTACH;FMTTYPE=image/png:https://www.poolparty.biz/wp-content/uploads/2021/05/Mekon-webinar-Outline-Tagging.png
END:VEVENT
END:VCALENDAR