BEGIN:VCALENDAR
VERSION:2.0
PRODID:-//PoolParty Semantic Suite - ECPv6.5.1.5//NONSGML v1.0//EN
CALSCALE:GREGORIAN
METHOD:PUBLISH
X-ORIGINAL-URL:https://www.poolparty.biz
X-WR-CALDESC:Events for PoolParty Semantic Suite
REFRESH-INTERVAL;VALUE=DURATION:PT1H
X-Robots-Tag:noindex
X-PUBLISHED-TTL:PT1H
BEGIN:VTIMEZONE
TZID:Europe/Vienna
BEGIN:DAYLIGHT
TZOFFSETFROM:+0100
TZOFFSETTO:+0200
TZNAME:CEST
DTSTART:20210328T010000
END:DAYLIGHT
BEGIN:STANDARD
TZOFFSETFROM:+0200
TZOFFSETTO:+0100
TZNAME:CET
DTSTART:20211031T010000
END:STANDARD
END:VTIMEZONE
BEGIN:VEVENT
DTSTART;VALUE=DATE:20210301
DTEND;VALUE=DATE:20210304
DTSTAMP:20260424T160544
CREATED:20201218T133758Z
LAST-MODIFIED:20230614T131615Z
UID:140690-1614556800-1614815999@www.poolparty.biz
SUMMARY:Taxonomy Boot Camp London 2021
DESCRIPTION:We are sponsors of the Taxonomy Boot Camp London 2021. And wherever you are in the world\, whether you’re a taxonomy beginner or a seasoned info pro\, join TBC London for: \n\nESSENTIAL TIPS for managing your taxonomy\nNEW APPROACHES to dealing with common issues like business buy-in and governance\nLATEST TAXONOMY APPLICATIONS including blockchain\, AI\, and machine learning\nHOW TO make the most of cutting-edge technologies and industry-leading software\n\nPlease listen to the talks of our CEO Andreas Blumauer and Data and Knowledge Engineer Heather Hedden (US Office\, Semantic Web Company\, Boston). Join us and share your experiences\, network with us\, and get incredible insight on Enterprise Knowledge Graphs at this one-of-a-kind event. \n			\n				Visit Event page
URL:https://www.poolparty.biz/events/taxonomy-boot-camp-london-2021
CATEGORIES:Event
ATTACH;FMTTYPE=image/png:https://www.poolparty.biz/wp-content/uploads/2020/12/Screenshot-2020-12-04-at-16.28.04.png
END:VEVENT
BEGIN:VEVENT
DTSTART;VALUE=DATE:20210316
DTEND;VALUE=DATE:20210320
DTSTAMP:20260424T160545
CREATED:20210303T130408Z
LAST-MODIFIED:20230614T141511Z
UID:141387-1615852800-1616198399@www.poolparty.biz
SUMMARY:The European Data Conference on Reference Data and Semantics
DESCRIPTION:On March 17th\, 2021\, Semantic Web Company (SWC) COO Helmut Nagy and SWC taxonomy\, ontology\, and knowledge graph expert Heather Hedden will host a two-part workshop titled “Building\, enhancing\, and integrating taxonomies” as part of the ENDORSE conference. \nHere is a summary of the workshop submitted by its presenters: \nKnowledge organization systems\, and specifically controlled vocabularies (including taxonomies\, thesauri\, term lists\, ontologies)\, play a key role in making content and data easier to find\, whether within an organization or published externally. Knowledge organization systems are utilized in many ways in information management and retrieval: topic browsing\, search support\, discovery\, filtering results\, sorting results\, curated content and alerts\, content management workflows\, data analysis\, recommendations\, etc. Many organizations already have various controlled vocabularies designed for different purposes but lack an enterprise-wide taxonomy\, have taxonomies that are out of date\, or have taxonomies that are under-utilized. \nThis workshop focuses on several basic methods to get started in either building a new taxonomy or in combining and enhancing existing controlled vocabularies. \nThe workshop’s first section is an introduction to knowledge organization systems with a focus on the suitability of different types for different purposes: term lists\, name authorities\, classification systems\, hierarchical and faceted taxonomies\, thesauri\, and ontologies. Standards (especially ISO 25964 and SKOS) will briefly be mentioned. Participants will be quizzed on which kind of knowledge organization system is suitable for different kinds of situations and for different kinds of concepts (subjects\, names\, etc.). \nThe next section\, which is the focus of the workshop\, addresses different methods for coming up with concepts in a knowledge organization system\, whether as a new KOS or to further build out and enhance an existing one. Because knowledge organization systems connect users to content\, they need to be designed to take into consideration the users’ needs and inputs and take into consideration the specific corpus of content. So\, we will consider both users and content as sources for taxonomy concepts and their labels. Methods of obtaining inputs for concepts from users include brainstorming workshops\, stakeholder and sample user interviews\, search log analysis\, and card sorting exercises. A brainstorming session is more suitable for participants from the same organization\, so our workshop’s main interactive activity will be a collaborative card sorting exercise through an online tool. Methods of deriving concepts from content include a manual content audit\, identifying concepts as a trained indexer would do\, and automated term extraction. We will have one interactive exercise of manual content analysis for concept identification and then present a demo of a tool for term extraction from a large corpus of documents. \nThe final section of the workshop will briefly consider the issue of combining existing knowledge organization systems in overlapping subject areas. They can either be merged into one\, if there is no business need to keep them distinct\, or they can be kept separate and linked at the individual concept level. If there is considerable overlap\, they may be “mapped”\, which means the concepts are designated as equivalent or nearly equivalent\, and one controlled vocabulary may be used for the other\, such as one at the tagged back end and one at the retrieval front end. Sometimes controlled vocabularies\, which do not have equivalent concepts but rather related concepts\, are linked with other related-type relationships. Participants will learn when each method of merging\, mapping\, and linking are suitable and the methods involved. \nThis workshop is suitable for both those who are building new knowledge organization systems and those who need to integrate or enhance existing knowledge organization systems. \nClick the button below for more information about the conference\, the program\, and to get registered.  \n			\n			\n				\n				\n				\n				\n			\n				\n				\n				\n				\n				\n				\n				\n				\n				\n				\n				\n				\n					Helmut Nagy\n					COO at Semantic Web Company \n					\n					XLinkedIn\n				\n			\n			\n				\n				\n				\n				\n				\n				\n				\n				\n				\n				\n				\n					Heather Hedden\n					Taxonomy Expert \n					\n					XLinkedIn\n				\n			\n			\n				\n				\n				\n				\n			\n				\n				\n				\n				\n				\n				\n				Visit Event page
URL:https://www.poolparty.biz/events/endorse-2021-taxonomy-workshop/
CATEGORIES:Event
ATTACH;FMTTYPE=image/png:https://www.poolparty.biz/wp-content/uploads/2021/03/endorse_banner2-logos.png
END:VEVENT
END:VCALENDAR