BEGIN:VCALENDAR
VERSION:2.0
PRODID:-//PoolParty Semantic Suite - ECPv6.5.1.5//NONSGML v1.0//EN
CALSCALE:GREGORIAN
METHOD:PUBLISH
X-WR-CALNAME:PoolParty Semantic Suite
X-ORIGINAL-URL:https://www.poolparty.biz
X-WR-CALDESC:Events for PoolParty Semantic Suite
REFRESH-INTERVAL;VALUE=DURATION:PT1H
X-Robots-Tag:noindex
X-PUBLISHED-TTL:PT1H
BEGIN:VTIMEZONE
TZID:Europe/Vienna
BEGIN:DAYLIGHT
TZOFFSETFROM:+0100
TZOFFSETTO:+0200
TZNAME:CEST
DTSTART:20210328T010000
END:DAYLIGHT
BEGIN:STANDARD
TZOFFSETFROM:+0200
TZOFFSETTO:+0100
TZNAME:CET
DTSTART:20211031T010000
END:STANDARD
END:VTIMEZONE
BEGIN:VEVENT
DTSTART;VALUE=DATE:20210201
DTEND;VALUE=DATE:20210204
DTSTAMP:20260424T123903
CREATED:20201218T091245Z
LAST-MODIFIED:20230614T131524Z
UID:140480-1612137600-1612396799@www.poolparty.biz
SUMMARY:Data-Centric Architecture Forum 2021
DESCRIPTION:We are sponsors of the Data-Centric Architecture Forum 2021. \nMeet us on Wednesday\, February 3\, 2021\, 12:45 – 12:55 pm EST; 10:45 – 10:55 pm MST (virtual/online) for the vendor spotlight where our Director of Marketing will present PoolParty Semantic Suite.  \nDon’t miss the “Ontology Design by Enriching Taxonomies” working session on Wednesday\, February 3\, 2021\, 2:15 – 3:45 pm EST; 12:15 – 1:45 pm MST (virtual/online) with two of our top knowledge engineers: Heather Hedden and Alexis Dimitriades.  \nSession Description: Data and the subsequent knowledge derived from information are valuable assets of an organization. What makes it especially valuable is if the data can be classified and linked in a knowledge graph to achieve better decisions\, customer satisfaction\, and knowledge discovery\, by solving such problems as localized meaning\, data silos\, heterogeneous data sources\, and divergent kinds of structured and unstructured data. Ontologies model and semantically link different kinds of data forming the basic structure of a knowledge graph. \nThere are different approaches to designing and creating ontologies\, however\, and the choice of which may depend on what taxonomies and other knowledge organization systems already exist in an organization\, whether the focus is on only data or also other content\, and what tools are available. This workshop addresses the approach of building an ontology as a semantic layer on top of existing taxonomies or other controlled vocabularies\, thus semantically enriching and linking them\, and then the ontology itself does not need to be large and complex. Practical issues or decision points in creating ontologies will also be covered\, and there will be some participatory activities.  \n			\n				Visit Event page
URL:https://www.poolparty.biz/events/data-centric-architecture-forum-2021-2/
LOCATION:TX
CATEGORIES:Event
ATTACH;FMTTYPE=image/png:https://www.poolparty.biz/wp-content/uploads/2020/12/DCAforum-branding-v1.0-02.png
END:VEVENT
END:VCALENDAR