BEGIN:VCALENDAR
VERSION:2.0
PRODID:-//PoolParty Semantic Suite - ECPv6.5.1.5//NONSGML v1.0//EN
CALSCALE:GREGORIAN
METHOD:PUBLISH
X-WR-CALNAME:PoolParty Semantic Suite
X-ORIGINAL-URL:https://www.poolparty.biz
X-WR-CALDESC:Events for PoolParty Semantic Suite
REFRESH-INTERVAL;VALUE=DURATION:PT1H
X-Robots-Tag:noindex
X-PUBLISHED-TTL:PT1H
BEGIN:VTIMEZONE
TZID:Europe/Vienna
BEGIN:DAYLIGHT
TZOFFSETFROM:+0100
TZOFFSETTO:+0200
TZNAME:CEST
DTSTART:20240331T010000
END:DAYLIGHT
BEGIN:STANDARD
TZOFFSETFROM:+0200
TZOFFSETTO:+0100
TZNAME:CET
DTSTART:20241027T010000
END:STANDARD
END:VTIMEZONE
BEGIN:VEVENT
DTSTART;TZID=Europe/Vienna:20241217T080000
DTEND;TZID=Europe/Vienna:20241217T080000
DTSTAMP:20260425T192807
CREATED:20241114T122127Z
LAST-MODIFIED:20250612T075041Z
UID:163145-1734422400-1734422400@www.poolparty.biz
SUMMARY:Webinar: The PoolParty Taxonomy Advisor
DESCRIPTION:RECORDED WEBINAR\n			\n				\n				\n				\n				\n				The PoolParty Taxonomy Advisor\n\nHarnessing the Power of GenAI for Taxonomy Development and Management\n			\n				WATCH NOW\n			\n			\n				\n				\n				\n				\n				\n				\n				\n				\n				\n				\n			\n			\n				\n				\n				\n				\n			\n				\n				\n				\n				\n				\n				\n				\n				\n				\n				\n				\n					\n					\n						Speaker\n						Márk Szabó\, Java Developer\, Semantic Web Company\n					\n				\n			\n			\n				\n				\n				\n				\n				\n				\n				\n				\n				\n				\n					\n					\n						Available on\n						December 18\, 2024\n					\n				\n			\n			\n				\n				\n				\n				\n			\n				\n				\n			\n				\n				\n				\n				\n				\n				\n				\n				\n				\n				\n				\n				\n				\n				\n				\n				\n				\n				The PoolParty Taxonomy Advisor\nHarnessing the Power of GenAI for Taxonomy Development and Management\nTaxonomies\, LLMs\, and GenAI\nImagine empowering a Large Language Model (LLM) to craft a comprehensive\, domain-specific taxonomy from a set of documents. Picture it effortlessly mapping out relationships between concepts\, listing alternative labels\, and defining terms with precision. This would revolutionize the role of taxonomists and domain experts\, handing over their intricate tasks to a large language model.  \nWhile the journey to harness Generative AI for taxonomy creation has begun\, the results have yet to meet expectations. The intricate dance between taxonomists and domain experts is challenging for machines to replicate\, and the nuanced linguistic analysis required to accurately contextualize concepts remains elusive. \nUnlocking the Potential of Taxonomists with the support of AI\nIntroducing the PoolParty Taxonomy Advisor\, an LLM-supported application that allows taxonomists and domain experts to create domain-specific taxonomies from a set of documents.  \nMost GenAI for taxonomy creation is unsatisfactory due to complex collaboration processes and linguistic analysis issues. The PoolParty Taxonomy Advisor corrects this with the suggestion function – the sweet spot for GenAI in taxonomy management. It allows for an employee\, or human-in-the-loop (HITL) to: \n\nselect from suggested narrower concepts and edit them\nselect from suggested related concepts and edit them\nselect from suggested definitions and edit them\nperform single or bulk suggestion operations\ncheck the created entries for consistency with the whole taxonomy\n\n\nJoin “The PoolParty Taxonomy Advisor” webinar\, hosted by Márk Szabó\, Java Developer at Semantic Web Company\, where you’ll get a first look at the updated PoolParty Taxonomy Advisor that will be featured in the PoolParty 9.5 release. The webinar will cover: \n\nTaxonomy enrichment through LLMs\nReceiving suggestions for narrower concepts\, alternative labels and definitions\nThe Taxonomy Advisor translation service\nImportance of human-in-the-loop (HITL)\nReduction of hallucinations with a Knowledge Graph\n\nRegister now to learn how your organization can shorten the construction of a company taxonomy by 50% with the PoolParty Taxonomy Advisor!\n			\n				WATCH NOW\n			\n			\n				\n				\n				\n				\n				\n				\n				\n				\n				\n				\n\n			\n			\n				\n				\n				\n				\n			\n				\n				\n			\n				\n				\n				\n				\n				\n				\n				\n				\n				\n				\n				\n				\n				\n				\n				\n				\n				\n				Speaker\n			\n			\n				\n				\n				\n				\n			\n				\n				\n				\n				\n				\n				\n				\n				\n				\n				\n				\n				\n					Márk Szabó\n					Java Developer\, Semantic Web Company \n					Márk Szabó is a Java Developer at Semantic Web Company (SWC). As pioneers in the realm of semantic AI and RAG\, Semantic Web Company is the proud provider of the innovative PoolParty Semantic Platform\, setting the standard for cutting-edge solutions in the industry.  \nAs a software developer\, Márk has extensive experience in Java and working with generative AI related technologies. His passion lies in facing new challenges and solving problems as efficiently as possible. He is also enthusiastic about AI and how this technology could shape our future.
URL:https://www.poolparty.biz/events/webinar-the-poolparty-taxonomy-advisor/
CATEGORIES:Webinar
ATTACH;FMTTYPE=image/png:https://www.poolparty.biz/wp-content/uploads/2023/07/taxonomy-management-FI.png
END:VEVENT
END:VCALENDAR