BEGIN:VCALENDAR
VERSION:2.0
PRODID:-//PoolParty Semantic Suite - ECPv6.5.1.5//NONSGML v1.0//EN
CALSCALE:GREGORIAN
METHOD:PUBLISH
X-ORIGINAL-URL:https://www.poolparty.biz
X-WR-CALDESC:Events for PoolParty Semantic Suite
REFRESH-INTERVAL;VALUE=DURATION:PT1H
X-Robots-Tag:noindex
X-PUBLISHED-TTL:PT1H
BEGIN:VTIMEZONE
TZID:Europe/Vienna
BEGIN:DAYLIGHT
TZOFFSETFROM:+0100
TZOFFSETTO:+0200
TZNAME:CEST
DTSTART:20210328T010000
END:DAYLIGHT
BEGIN:STANDARD
TZOFFSETFROM:+0200
TZOFFSETTO:+0100
TZNAME:CET
DTSTART:20211031T010000
END:STANDARD
END:VTIMEZONE
BEGIN:VEVENT
DTSTART;VALUE=DATE:20210803
DTEND;VALUE=DATE:20210901
DTSTAMP:20260424T091350
CREATED:20210624T075811Z
LAST-MODIFIED:20230614T130320Z
UID:143672-1627948800-1630454399@www.poolparty.biz
SUMMARY:Special Libraries Association - Annual Conference 2021
DESCRIPTION:The SLA Annual Conference is the premier event for special librarians and information professionals who want to explore the latest challenges and trends in information\, knowledge\, and library management\, refine their skills\, connect with colleagues\, and meet with leading product and service providers. \nPoolParty Team is represented by Heather Hedden with an on-demand talk: \nUsing Semantic Resources to Enrich Content Services\nAbstract:\nLet’s face it – without structure\, content management systems and other repositories can quickly go from sharing content to burying content. How do you tackle this challenge and capitalize on the opportunity it represents without feeling like you are trying to boil the ocean? By using semantic resources like taxonomies and ontologies! This session will present lessons learned from experience and give you actual steps for increasing the use of semantic resources in your content platforms. \nLearning Objectives:\nAt the end of this session\, attendees will be able to: \n\nUnderstand the link between enterprise content and controlled semantic resources.\nEvaluate semantic resources and the effort involved in implementation and maintenance.\nDiscuss how other organizations use similar tools to address content management challenges.\n\nClick the button below for more information about the conference and how to register.  \n			\n				Visit Event page
URL:https://www.poolparty.biz/events/special-libraries-association-annual-conference-2021/
LOCATION:online
CATEGORIES:Event
ATTACH;FMTTYPE=image/png:https://www.poolparty.biz/wp-content/uploads/2021/06/Screenshot-2021-06-24-at-09.12.51.png
END:VEVENT
BEGIN:VEVENT
DTSTART;TZID=Europe/Vienna:20210804T180000
DTEND;TZID=Europe/Vienna:20210804T190000
DTSTAMP:20260424T091350
CREATED:20210707T094334Z
LAST-MODIFIED:20250327T090053Z
UID:143855-1628100000-1628103600@www.poolparty.biz
SUMMARY:Webinar: Taxonomy Management 101
DESCRIPTION:ON-DEMAND WEBINAR \n			\n				\n				\n				\n				\n				Taxonomy Management 101\n			\n				\n				\n				\n				\n				Discovering the Benefits of Taxonomies \n			\n			\n				\n				\n				\n				\n				\n				\n				\n				\n				\n				\n			\n			\n				\n				\n				\n				\n			\n				\n				\n				\n				\n				\n				\n				\n				\n				\n				\n				\n					\n					\n						Speaker\n						Heather Hedden\, Data and Knowledge Engineer at Semantic Web Company \n					\n				\n			\n			\n				\n				\n				\n				\n				\n			\n				\n				\n				\n				\n				\n			\n				\n				\n				\n				\n			\n				\n				\n			\n				\n				\n				\n				\n				\n				\n				\n				\n				\n				\n				\n				\n				\n				\n				\n				\n				\n				Taxonomy Management 101\nThe uses and benefits of taxonomies are almost endless: search or browse on website\, intranets\, and in enterprise content management systems\, sorting or filtering results\, discovery of related information\, content workflow management\, visualization of topics\, curated content in feeds or info boxes\, recommendation systems\, and question-answering systems. As taxonomies become more common for information management and retrieval in all kinds of organizations and in various applications\, the task of creating new taxonomies from scratch is less needed than the task of managing existing taxonomies.  \nDo you want to learn how you can take advantage of some of these many features associated with taxonomies? Join our webinar ‘Taxonomy Management 101’ to hear all things about taxonomy management and how you can benefit from it.  \nWatch Heather Hedden\, Data and Knowledge Engineer at the Semantic Web Company and author of the book The Accidental Taxonomist\, cover various aspects of taxonomy management\, including:  \n\nRegular taxonomy maintenance\nTaxonomy governance and documentation \nManagement of taxonomy tagging \nTaxonomy integration with end-user applications (including semantic search         and recommender systems)\nPeriodic taxonomy review and revision\nVarious methods of extending a taxonomy (including linking taxonomies and             adding a semantic ontology layer). \n\nAn understanding of the taxonomy management tasks makes it easier for an organization to determine resources of subject matter experts\, contract taxonomists\, a staff taxonomist\, or a taxonomy consultant. Learning from the perspective of a taxonomy expert\, you can use this webinar to explore the many benefits of a dedicated taxonomy/thesaurus management tool. \n			\n				\n				\n				\n				\n				\n				\n			\n			\n				\n				\n				\n				\n			\n				\n				\n			\n				\n				\n				\n				\n				\n				\n				\n				\n				\n				\n				\n				\n				\n				\n				\n				\n				\n				Speaker\n			\n			\n				\n				\n				\n				\n			\n				\n				\n				\n				\n				\n				\n				\n				\n				\n				\n				\n				\n					Heather Hedden\n					Data and Knowledge Engineer\, Semantic Web Company \n					Heather Hedden is a Data and Knowledge Engineer with Semantic Web Company Inc.\, vendor of PoolParty Semantic Suite software for developing taxonomies\, ontologies\, knowledge graphs\, and semantic search applications. \nHeather has 25 years of experience in developing and managing taxonomies and other knowledge organization systems for various organizations and applications\, both as an employee and as a consultant. She provides training in taxonomy creation and is author of the book The Accidental Taxonomist. \n					LinkedIn
URL:https://www.poolparty.biz/events/webinar-taxonomy-management-101
LOCATION:RECORDING AVAILABLE
CATEGORIES:On-demand Webinars
ATTACH;FMTTYPE=image/png:https://www.poolparty.biz/wp-content/uploads/2021/07/Webinar-The-Art-of-Developing-Valuable-Employee-Journeys-2.png
END:VEVENT
END:VCALENDAR