BEGIN:VCALENDAR
VERSION:2.0
PRODID:-//PoolParty Semantic Suite - ECPv6.5.1.5//NONSGML v1.0//EN
CALSCALE:GREGORIAN
METHOD:PUBLISH
X-WR-CALNAME:PoolParty Semantic Suite
X-ORIGINAL-URL:https://www.poolparty.biz
X-WR-CALDESC:Events for PoolParty Semantic Suite
REFRESH-INTERVAL;VALUE=DURATION:PT1H
X-Robots-Tag:noindex
X-PUBLISHED-TTL:PT1H
BEGIN:VTIMEZONE
TZID:Europe/Vienna
BEGIN:DAYLIGHT
TZOFFSETFROM:+0100
TZOFFSETTO:+0200
TZNAME:CEST
DTSTART:20210328T010000
END:DAYLIGHT
BEGIN:STANDARD
TZOFFSETFROM:+0200
TZOFFSETTO:+0100
TZNAME:CET
DTSTART:20211031T010000
END:STANDARD
END:VTIMEZONE
BEGIN:VEVENT
DTSTART;TZID=Europe/Vienna:20210525T170000
DTEND;TZID=Europe/Vienna:20210525T180000
DTSTAMP:20260424T123258
CREATED:20210506T085457Z
LAST-MODIFIED:20250327T142240Z
UID:142756-1621962000-1621965600@www.poolparty.biz
SUMMARY:Webinar: Boost your Customer Experience in AEM with Auto Tagging
DESCRIPTION:ON-DEMAND WEBINAR \n			\n				\n				\n				\n				\n				Boost your Customer Experience in AEM with Auto Tagging\n\n			\n				\n				\n				\n				\n				\n			\n			\n				\n				\n				\n				\n				\n			\n				\n				\n				\n				\n			\n				\n				\n				\n				\n				\n				\n				\n				\n				\n				\n				\n					\n					\n						Speakers\n						Heather Hedden\, Data and Knowledge Engineer\, Semantic Web Company \nMaura Moran\, Senior Content Consultant\, Mekon Ltd \n					\n				\n			\n			\n				\n				\n				\n				\n				\n			\n				\n				\n				\n				\n				\n			\n				\n				\n				\n				\n			\n				\n				\n			\n				\n				\n				\n				\n				\n				\n				\n				\n				\n				\n				\n				\n				\n				\n				\n				\n				\n				Boost your Customer Experience in AEM with Auto Tagging\n			\n				\n				\n				\n				\n				Tagging your content is essential for supporting the sophisticated personalization\, search and navigation features that benefit your users. But manually tagging a large amount of content can be time-consuming and inconsistent\, leading to poor results. Join our free webinar to find out how you can automatically tag content in Adobe Experience Manager easily and cost-effectively\, improving the search and personalization feature of your websites. \nIn this on-demand webinar\, you will learn how Mekon’s Semantic Booster integrates AEM with the PoolParty Semantic Suite\, allowing you to take advantage of world-class text-mining capabilities to auto tag your sites. PoolParty is unique because it combines knowledge graphs\, machine learning\, natural language processing\, and graph algorithms to better analyze text by not only processing words but understanding the underlying concepts and their context. As a result\, your information professionals are able to create high-quality metadata that can deliver personalized\, meaningful content to your users. \nHear from Maura Moran of Mekon and Heather Hedden of Semantic Web Company on the following topics: \n\nIntegrate PoolParty with Adobe Experience Manager (AEM)\, using the Semantic Booster for AEM [DEMO]\nAuto tag AEM Sites against concepts\, using mutli-lingual terms and synonyms\nManage the concepts in an enterprise system\, using a specialist environment that can connect to other systems via API\nImprove customer experiences through improved personalization and findability\n\n			\n				\n				\n				\n				\n				\n				\n			\n			\n				\n				\n				\n				\n			\n				\n				\n				\n				\n				\n				\n				\n				\n				\n				\n				\n				\n					Maura Moran\n					Senior Content Consultant at Mekon Ltd. \n					Maura has over 20 years’ experience helping organizations drive value through improved information architecture\, taxonomy and content management systems and tools. She has a particularly strong background in commercial publishing\, having worked with many of the world’s premier publishing firms including Pearson\, Elsevier\, and Oxford University Press. \nMaura understands that changing an organization’s working practices can be a messy business\, so she balances finding the right technical solution with a focus on practical implementation\, including a solid approach to change management and content governance. \n					LinkedIn\n				\n			\n			\n				\n				\n				\n				\n				\n				\n				\n				\n				\n				\n				\n					Heather Hedden\n					Data and Knowledge Engineer at Semantic Web Company \n					Heather Hedden is a Data and Knowledge Engineer with Semantic Web Company Inc.\, vendor of PoolParty Semantic Suite software for developing taxonomies\, ontologies\, knowledge graphs\, and semantic search applications. \nHeather has 25 years of experience in developing and managing taxonomies and other knowledge organization systems for various organizations and applications\, both as an employee and as a consultant. She provides training in taxonomy creation and is author of the book The Accidental Taxonomist. \n					LinkedIn
URL:https://www.poolparty.biz/events/auto-tagging-in-adobe-experience-manager
LOCATION:RECORDING AVAILABLE
CATEGORIES:On-demand Webinars
ATTACH;FMTTYPE=image/png:https://www.poolparty.biz/wp-content/uploads/2021/05/Mekon-webinar-Outline-Tagging.png
END:VEVENT
END:VCALENDAR