BEGIN:VCALENDAR
VERSION:2.0
PRODID:-//PoolParty Semantic Suite - ECPv6.5.1.5//NONSGML v1.0//EN
CALSCALE:GREGORIAN
METHOD:PUBLISH
X-WR-CALNAME:PoolParty Semantic Suite
X-ORIGINAL-URL:https://www.poolparty.biz
X-WR-CALDESC:Events for PoolParty Semantic Suite
REFRESH-INTERVAL;VALUE=DURATION:PT1H
X-Robots-Tag:noindex
X-PUBLISHED-TTL:PT1H
BEGIN:VTIMEZONE
TZID:Europe/Vienna
BEGIN:DAYLIGHT
TZOFFSETFROM:+0100
TZOFFSETTO:+0200
TZNAME:CEST
DTSTART:20210328T010000
END:DAYLIGHT
BEGIN:STANDARD
TZOFFSETFROM:+0200
TZOFFSETTO:+0100
TZNAME:CET
DTSTART:20211031T010000
END:STANDARD
END:VTIMEZONE
BEGIN:VEVENT
DTSTART;VALUE=DATE:20210418
DTEND;VALUE=DATE:20210424
DTSTAMP:20260424T141418
CREATED:20210303T144637Z
LAST-MODIFIED:20230614T131840Z
UID:141434-1618704000-1619222399@www.poolparty.biz
SUMMARY:Enterprise Data World 2021
DESCRIPTION:We are proud sponsors of the 2021 Enterprise Data World Conference. This year we will be setting up a “virtual booth” where attendees can directly communicate with us and get their questions answered. Save 10% on your registration using the coupon code POOLPARTY10 during checkout. Hope to see you there! \nMore about the conference: For 25 years now\, Enterprise Data World (EDW) has been recognized as the most comprehensive educational conference on Data Management in the world\, and this year’s event will continue our tradition to offer in-depth training opportunities for data-driven professionals from around the world. Registrants will be able to join us for over 100 live online instructor-led workshops\, tutorials\, product demos\, case studies\, and keynotes and learn from others’ experiences so they can implement dozens of actionable takeaways following the event. \nClick the button below to visit EDW’s event page and get more information about the program\, speakers\, tracks\, etc. Don’t forget to save 10% on your registration using the coupon code POOLPARTY10 when checking out.  \n			\n				Visit Event page
URL:https://www.poolparty.biz/events/enterprise-data-world-2021/
LOCATION:Enterprise Data World
CATEGORIES:Event
ATTACH;FMTTYPE=image/png:https://www.poolparty.biz/wp-content/uploads/2021/03/edw21-exhibitors-3sponsoring@2x-1.png
END:VEVENT
END:VCALENDAR